Package: easyRNASeq Version: 2.47.0 Command: /Library/Frameworks/R.framework/Resources/bin/R CMD build --keep-empty-dirs --no-resave-data easyRNASeq StartedAt: 2025-11-13 16:18:14 -0500 (Thu, 13 Nov 2025) EndedAt: 2025-11-13 16:20:12 -0500 (Thu, 13 Nov 2025) EllapsedTime: 117.3 seconds RetCode: 0 Status: OK PackageFile: easyRNASeq_2.47.0.tar.gz PackageFileSize: 69.55 MiB