Package: easier Version: 1.17.0 Command: /home/biocbuild/bbs-3.23-bioc/R/bin/R CMD INSTALL easier StartedAt: 2025-11-14 15:31:52 -0500 (Fri, 14 Nov 2025) EndedAt: 2025-11-14 15:32:26 -0500 (Fri, 14 Nov 2025) EllapsedTime: 34.6 seconds RetCode: 0 Status: OK