Package: easier Version: 1.17.0 Command: /home/biocbuild/bbs-3.23-bioc/R/bin/R CMD build --keep-empty-dirs --no-resave-data easier StartedAt: 2025-11-14 17:25:01 -0500 (Fri, 14 Nov 2025) EndedAt: 2025-11-14 17:29:51 -0500 (Fri, 14 Nov 2025) EllapsedTime: 289.4 seconds RetCode: 0 Status: OK PackageFile: easier_1.17.0.tar.gz PackageFileSize: 3.656 MiB