Package: easier Version: 1.17.0 Command: /Library/Frameworks/R.framework/Resources/bin/R CMD INSTALL easier StartedAt: 2025-11-14 15:17:04 -0500 (Fri, 14 Nov 2025) EndedAt: 2025-11-14 15:17:17 -0500 (Fri, 14 Nov 2025) EllapsedTime: 13.3 seconds RetCode: 0 Status: OK