Package: easier Version: 1.17.0 Command: /Library/Frameworks/R.framework/Resources/bin/R CMD build --keep-empty-dirs --no-resave-data easier StartedAt: 2025-11-14 16:14:54 -0500 (Fri, 14 Nov 2025) EndedAt: 2025-11-14 16:17:10 -0500 (Fri, 14 Nov 2025) EllapsedTime: 135.6 seconds RetCode: 0 Status: OK PackageFile: easier_1.17.0.tar.gz PackageFileSize: 3.662 MiB