Package: easier Version: 1.17.0 Command: rm -rf easier.buildbin-libdir && mkdir easier.buildbin-libdir && /Users/biocbuild/BBS/utils/build-universal.sh easier_1.17.0.tar.gz /Library/Frameworks/R.framework/Resources/bin/R easier.buildbin-libdir StartedAt: 2025-11-14 23:31:21 -0500 (Fri, 14 Nov 2025) EndedAt: 2025-11-14 23:31:39 -0500 (Fri, 14 Nov 2025) EllapsedTime: 17.4 seconds RetCode: 0 Status: OK PackageFile: easier_1.17.0.tgz PackageFileSize: 2.874 MiB