Package: dupRadar Version: 1.41.0 Command: /home/biocbuild/bbs-3.23-bioc/R/bin/R CMD INSTALL dupRadar StartedAt: 2025-11-13 15:05:52 -0500 (Thu, 13 Nov 2025) EndedAt: 2025-11-13 15:06:22 -0500 (Thu, 13 Nov 2025) EllapsedTime: 30.2 seconds RetCode: 0 Status: OK