Package: dupRadar Version: 1.41.0 Command: /home/biocbuild/bbs-3.23-bioc/R/bin/R CMD build --keep-empty-dirs --no-resave-data dupRadar StartedAt: 2025-11-13 17:24:18 -0500 (Thu, 13 Nov 2025) EndedAt: 2025-11-13 17:24:52 -0500 (Thu, 13 Nov 2025) EllapsedTime: 34.0 seconds RetCode: 0 Status: OK PackageFile: dupRadar_1.41.0.tar.gz PackageFileSize: 4.141 MiB