Package: dupRadar Version: 1.41.0 Command: /Library/Frameworks/R.framework/Resources/bin/R CMD INSTALL dupRadar StartedAt: 2025-11-14 15:03:47 -0500 (Fri, 14 Nov 2025) EndedAt: 2025-11-14 15:03:49 -0500 (Fri, 14 Nov 2025) EllapsedTime: 2.4 seconds RetCode: 0 Status: OK