Package: dupRadar Version: 1.41.0 Command: rm -rf dupRadar.buildbin-libdir && mkdir dupRadar.buildbin-libdir && /Users/biocbuild/BBS/utils/build-universal.sh dupRadar_1.41.0.tar.gz /Library/Frameworks/R.framework/Resources/bin/R dupRadar.buildbin-libdir StartedAt: 2025-11-13 23:36:13 -0500 (Thu, 13 Nov 2025) EndedAt: 2025-11-13 23:36:19 -0500 (Thu, 13 Nov 2025) EllapsedTime: 5.1 seconds RetCode: 0 Status: OK PackageFile: dupRadar_1.41.0.tgz PackageFileSize: 4.823 MiB