Package: dupRadar Version: 1.41.0 Maintainer: Sergi Sayols , Holger Klein MaintainerEmail: holger.klein at gmail.com git_url: https://git.bioconductor.org/packages/dupRadar git_branch: devel git_last_commit: e48983a git_last_commit_date: 2025-10-29 10:27:51 -0500 (Wed, 29 Oct 2025)