Package: dreamlet Version: 1.9.0 Command: /home/biocbuild/bbs-3.23-bioc/R/bin/R CMD INSTALL dreamlet StartedAt: 2025-11-14 16:00:41 -0500 (Fri, 14 Nov 2025) EndedAt: 2025-11-14 16:01:50 -0500 (Fri, 14 Nov 2025) EllapsedTime: 68.7 seconds RetCode: 0 Status: OK