Package: dreamlet Version: 1.9.0 Command: /home/biocbuild/bbs-3.23-bioc/R/bin/R CMD build --keep-empty-dirs --no-resave-data dreamlet StartedAt: 2025-11-13 17:23:06 -0500 (Thu, 13 Nov 2025) EndedAt: 2025-11-13 17:29:25 -0500 (Thu, 13 Nov 2025) EllapsedTime: 378.4 seconds RetCode: 0 Status: OK PackageFile: dreamlet_1.9.0.tar.gz PackageFileSize: 4.351 MiB