############################################################################## ############################################################################## ### ### Running command: ### ### /Library/Frameworks/R.framework/Resources/bin/R CMD INSTALL dreamlet ### ############################################################################## ############################################################################## * installing to library ‘/Library/Frameworks/R.framework/Versions/4.6-arm64/Resources/library’ ERROR: dependencies ‘edgeR’, ‘zenith’ are not available for package ‘dreamlet’ Perhaps try a variation of: install.packages(c('edgeR', 'zenith')) * removing ‘/Library/Frameworks/R.framework/Versions/4.6-arm64/Resources/library/dreamlet’