############################################################################## ############################################################################## ### ### Running command: ### ### /Library/Frameworks/R.framework/Resources/bin/R CMD build --keep-empty-dirs --no-resave-data dreamlet ### ############################################################################## ############################################################################## * checking for file ‘dreamlet/DESCRIPTION’ ... OK * preparing ‘dreamlet’: * checking DESCRIPTION meta-information ... OK * cleaning src * installing the package (it is needed to process help pages) ----------------------------------- ERROR: dependencies ‘edgeR’, ‘zenith’ are not available for package ‘dreamlet’ Perhaps try a variation of: install.packages(c('edgeR', 'zenith')) * removing ‘/private/var/folders/r0/l4fjk6cj5xj0j3brt4bplpl40000gt/T/RtmpLo9PJ5/Rinst47bb2760b8aa/dreamlet’ ----------------------------------- ERROR: package installation failed