Package: drawProteins Version: 1.31.0 Command: /Library/Frameworks/R.framework/Resources/bin/R CMD INSTALL drawProteins StartedAt: 2025-11-14 15:05:45 -0500 (Fri, 14 Nov 2025) EndedAt: 2025-11-14 15:05:48 -0500 (Fri, 14 Nov 2025) EllapsedTime: 2.9 seconds RetCode: 0 Status: OK