Package: drawProteins Version: 1.31.0 Command: /Library/Frameworks/R.framework/Resources/bin/R CMD build --keep-empty-dirs --no-resave-data drawProteins StartedAt: 2025-11-14 16:13:44 -0500 (Fri, 14 Nov 2025) EndedAt: 2025-11-14 16:13:57 -0500 (Fri, 14 Nov 2025) EllapsedTime: 13.1 seconds RetCode: 0 Status: OK PackageFile: drawProteins_1.31.0.tar.gz PackageFileSize: 1.57 MiB