Package: drawProteins Version: 1.31.0 Maintainer: Paul Brennan MaintainerEmail: brennanpincardiff at gmail.com git_url: https://git.bioconductor.org/packages/drawProteins git_branch: devel git_last_commit: 1f52db0 git_last_commit_date: 2025-10-29 10:42:38 -0500 (Wed, 29 Oct 2025)