Package: doubletrouble Version: 1.11.0 Command: /home/biocbuild/bbs-3.23-bioc/R/bin/R CMD INSTALL doubletrouble StartedAt: 2025-11-13 15:51:50 -0500 (Thu, 13 Nov 2025) EndedAt: 2025-11-13 15:52:33 -0500 (Thu, 13 Nov 2025) EllapsedTime: 42.6 seconds RetCode: 0 Status: OK