Package: doubletrouble Version: 1.11.0 Command: /home/biocbuild/bbs-3.23-bioc/R/bin/R CMD build --keep-empty-dirs --no-resave-data doubletrouble StartedAt: 2025-11-13 17:22:55 -0500 (Thu, 13 Nov 2025) EndedAt: 2025-11-13 17:24:18 -0500 (Thu, 13 Nov 2025) EllapsedTime: 83.1 seconds RetCode: 0 Status: OK PackageFile: doubletrouble_1.11.0.tar.gz PackageFileSize: 4.955 MiB