Package: doseR Version: 1.27.0 Command: /home/biocbuild/bbs-3.23-bioc/R/bin/R CMD INSTALL doseR StartedAt: 2025-11-23 15:19:35 -0500 (Sun, 23 Nov 2025) EndedAt: 2025-11-23 15:19:54 -0500 (Sun, 23 Nov 2025) EllapsedTime: 19.1 seconds RetCode: 0 Status: OK