Package: doseR Version: 1.27.0 Command: /home/biocbuild/bbs-3.23-bioc/R/bin/R CMD build --keep-empty-dirs --no-resave-data doseR StartedAt: 2025-11-23 17:24:07 -0500 (Sun, 23 Nov 2025) EndedAt: 2025-11-23 17:24:39 -0500 (Sun, 23 Nov 2025) EllapsedTime: 32.0 seconds RetCode: 0 Status: OK PackageFile: doseR_1.27.0.tar.gz PackageFileSize: 1.34 MiB