Package: doseR Version: 1.27.0 Command: /Library/Frameworks/R.framework/Resources/bin/R CMD INSTALL doseR StartedAt: 2025-11-20 15:11:54 -0500 (Thu, 20 Nov 2025) EndedAt: 2025-11-20 15:12:03 -0500 (Thu, 20 Nov 2025) EllapsedTime: 8.5 seconds RetCode: 0 Status: OK