Package: doseR Version: 1.27.0 Command: /Library/Frameworks/R.framework/Resources/bin/R CMD build --keep-empty-dirs --no-resave-data doseR StartedAt: 2025-11-20 16:13:37 -0500 (Thu, 20 Nov 2025) EndedAt: 2025-11-20 16:13:52 -0500 (Thu, 20 Nov 2025) EllapsedTime: 14.1 seconds RetCode: 0 Status: OK PackageFile: doseR_1.27.0.tar.gz PackageFileSize: 1.344 MiB