Package: doseR Version: 1.27.0 Command: rm -rf doseR.buildbin-libdir && mkdir doseR.buildbin-libdir && /Users/biocbuild/BBS/utils/build-universal.sh doseR_1.27.0.tar.gz /Library/Frameworks/R.framework/Resources/bin/R doseR.buildbin-libdir StartedAt: 2025-11-20 23:31:40 -0500 (Thu, 20 Nov 2025) EndedAt: 2025-11-20 23:31:51 -0500 (Thu, 20 Nov 2025) EllapsedTime: 10.2 seconds RetCode: 0 Status: OK PackageFile: doseR_1.27.0.tgz PackageFileSize: 1.394 MiB