Package: dominoSignal Version: 1.5.0 Command: /home/biocbuild/bbs-3.23-bioc/R/bin/R CMD INSTALL dominoSignal StartedAt: 2025-11-11 15:30:26 -0500 (Tue, 11 Nov 2025) EndedAt: 2025-11-11 15:30:51 -0500 (Tue, 11 Nov 2025) EllapsedTime: 25.0 seconds RetCode: 0 Status: OK