Package: dominoSignal Version: 1.5.0 Command: /Library/Frameworks/R.framework/Resources/bin/R CMD INSTALL dominoSignal StartedAt: 2025-11-12 15:29:42 -0500 (Wed, 12 Nov 2025) EndedAt: 2025-11-12 15:29:52 -0500 (Wed, 12 Nov 2025) EllapsedTime: 10.3 seconds RetCode: 0 Status: OK