Package: dominoSignal Version: 1.5.0 Command: /Library/Frameworks/R.framework/Resources/bin/R CMD build --keep-empty-dirs --no-resave-data dominoSignal StartedAt: 2025-11-12 16:10:09 -0500 (Wed, 12 Nov 2025) EndedAt: 2025-11-12 16:11:02 -0500 (Wed, 12 Nov 2025) EllapsedTime: 52.6 seconds RetCode: 0 Status: OK PackageFile: dominoSignal_1.5.0.tar.gz PackageFileSize: 1.075 MiB