Package: dmrseq Version: 1.31.0 Command: /home/biocbuild/bbs-3.23-bioc/R/bin/R CMD INSTALL dmrseq StartedAt: 2025-11-23 15:44:14 -0500 (Sun, 23 Nov 2025) EndedAt: 2025-11-23 15:45:04 -0500 (Sun, 23 Nov 2025) EllapsedTime: 50.4 seconds RetCode: 0 Status: OK