Package: dmrseq Version: 1.31.0 Command: /Library/Frameworks/R.framework/Resources/bin/R CMD INSTALL dmrseq StartedAt: 2025-11-14 15:22:36 -0500 (Fri, 14 Nov 2025) EndedAt: 2025-11-14 15:22:58 -0500 (Fri, 14 Nov 2025) EllapsedTime: 21.8 seconds RetCode: 0 Status: OK