Package: dmrseq Version: 1.31.0 Command: /Library/Frameworks/R.framework/Resources/bin/R CMD build --keep-empty-dirs --no-resave-data dmrseq StartedAt: 2025-11-14 16:12:15 -0500 (Fri, 14 Nov 2025) EndedAt: 2025-11-14 16:13:29 -0500 (Fri, 14 Nov 2025) EllapsedTime: 74.8 seconds RetCode: 0 Status: OK PackageFile: dmrseq_1.31.0.tar.gz PackageFileSize: 2.968 MiB