Package: dmrseq Version: 1.31.0 Command: rm -rf dmrseq.buildbin-libdir && mkdir dmrseq.buildbin-libdir && /Users/biocbuild/BBS/utils/build-universal.sh dmrseq_1.31.0.tar.gz /Library/Frameworks/R.framework/Resources/bin/R dmrseq.buildbin-libdir StartedAt: 2025-11-14 23:30:55 -0500 (Fri, 14 Nov 2025) EndedAt: 2025-11-14 23:31:20 -0500 (Fri, 14 Nov 2025) EllapsedTime: 25.6 seconds RetCode: 0 Status: OK PackageFile: dmrseq_1.31.0.tgz PackageFileSize: 4.514 MiB