Package: divergence Version: 1.27.0 Command: /Library/Frameworks/R.framework/Resources/bin/R CMD INSTALL divergence StartedAt: 2025-11-18 15:21:54 -0500 (Tue, 18 Nov 2025) EndedAt: 2025-11-18 15:22:02 -0500 (Tue, 18 Nov 2025) EllapsedTime: 8.3 seconds RetCode: 0 Status: OK