Package: divergence Version: 1.27.0 Command: /Library/Frameworks/R.framework/Resources/bin/R CMD build --keep-empty-dirs --no-resave-data divergence StartedAt: 2025-11-14 16:11:33 -0500 (Fri, 14 Nov 2025) EndedAt: 2025-11-14 16:11:55 -0500 (Fri, 14 Nov 2025) EllapsedTime: 22.3 seconds RetCode: 0 Status: OK PackageFile: divergence_1.27.0.tar.gz PackageFileSize: 2.073 MiB