Package: divergence Version: 1.27.0 Command: rm -rf divergence.buildbin-libdir && mkdir divergence.buildbin-libdir && /Users/biocbuild/BBS/utils/build-universal.sh divergence_1.27.0.tar.gz /Library/Frameworks/R.framework/Resources/bin/R divergence.buildbin-libdir StartedAt: 2025-11-16 23:31:54 -0500 (Sun, 16 Nov 2025) EndedAt: 2025-11-16 23:32:05 -0500 (Sun, 16 Nov 2025) EllapsedTime: 11.2 seconds RetCode: 0 Status: OK PackageFile: divergence_1.27.0.tgz PackageFileSize: 1.954 MiB