Package: divergence Version: 1.27.0 Maintainer: Wikum Dinalankara , Luigi Marchionni MaintainerEmail: marchion at jhu.edu git_url: https://git.bioconductor.org/packages/divergence git_branch: devel git_last_commit: 3e893d2 git_last_commit_date: 2025-10-29 10:49:51 -0500 (Wed, 29 Oct 2025)