Package: dittoSeq Version: 1.23.0 Command: /Library/Frameworks/R.framework/Resources/bin/R CMD build --keep-empty-dirs --no-resave-data dittoSeq StartedAt: 2025-11-13 16:14:41 -0500 (Thu, 13 Nov 2025) EndedAt: 2025-11-13 16:15:34 -0500 (Thu, 13 Nov 2025) EllapsedTime: 52.6 seconds RetCode: 0 Status: OK PackageFile: dittoSeq_1.23.0.tar.gz PackageFileSize: 3.267 MiB