Package: discordant Version: 1.35.0 Command: /Library/Frameworks/R.framework/Resources/bin/R CMD INSTALL discordant StartedAt: 2025-11-13 15:07:02 -0500 (Thu, 13 Nov 2025) EndedAt: 2025-11-13 15:07:06 -0500 (Thu, 13 Nov 2025) EllapsedTime: 4.0 seconds RetCode: 0 Status: OK