Package: discordant Version: 1.35.0 Command: /Library/Frameworks/R.framework/Resources/bin/R CMD build --keep-empty-dirs --no-resave-data discordant StartedAt: 2025-11-13 16:14:26 -0500 (Thu, 13 Nov 2025) EndedAt: 2025-11-13 16:14:41 -0500 (Thu, 13 Nov 2025) EllapsedTime: 15.2 seconds RetCode: 0 Status: OK PackageFile: discordant_1.35.0.tar.gz PackageFileSize: 475.2 KiB