Package: dinoR Version: 1.7.0 Command: /Library/Frameworks/R.framework/Resources/bin/R CMD build --keep-empty-dirs --no-resave-data dinoR StartedAt: 2025-11-13 16:14:13 -0500 (Thu, 13 Nov 2025) EndedAt: 2025-11-13 16:14:41 -0500 (Thu, 13 Nov 2025) EllapsedTime: 28.3 seconds RetCode: 0 Status: OK PackageFile: dinoR_1.7.0.tar.gz PackageFileSize: 3.239 MiB