Package: diffuStats Version: 1.31.0 Command: /home/biocbuild/bbs-3.23-bioc/R/bin/R CMD INSTALL diffuStats StartedAt: 2025-11-13 15:07:41 -0500 (Thu, 13 Nov 2025) EndedAt: 2025-11-13 15:08:09 -0500 (Thu, 13 Nov 2025) EllapsedTime: 28.0 seconds RetCode: 0 Status: OK