Package: diffuStats Version: 1.31.0 Command: /Library/Frameworks/R.framework/Resources/bin/R CMD check --install=check:diffuStats.install-out.txt --library=/Library/Frameworks/R.framework/Resources/library --no-vignettes --timings diffuStats_1.31.0.tar.gz StartedAt: 2025-11-13 19:38:18 -0500 (Thu, 13 Nov 2025) EndedAt: 2025-11-13 19:38:55 -0500 (Thu, 13 Nov 2025) EllapsedTime: 36.5 seconds RetCode: 0 Status: OK CheckDir: diffuStats.Rcheck Warnings: 0