Package: diffcyt Version: 1.31.0 Command: /home/biocbuild/bbs-3.23-bioc/R/bin/R CMD check --install=check:diffcyt.install-out.txt --library=/home/biocbuild/bbs-3.23-bioc/R/site-library --timings diffcyt_1.31.0.tar.gz StartedAt: 2025-11-14 22:57:25 -0500 (Fri, 14 Nov 2025) EndedAt: 2025-11-14 23:03:20 -0500 (Fri, 14 Nov 2025) EllapsedTime: 354.3 seconds RetCode: 0 Status: OK CheckDir: diffcyt.Rcheck Warnings: 0