Package: diffcyt Version: 1.31.0 Command: /Library/Frameworks/R.framework/Resources/bin/R CMD INSTALL diffcyt StartedAt: 2025-11-23 15:14:37 -0500 (Sun, 23 Nov 2025) EndedAt: 2025-11-23 15:14:50 -0500 (Sun, 23 Nov 2025) EllapsedTime: 13.5 seconds RetCode: 0 Status: OK