Package: diffcyt Version: 1.31.0 Command: /Library/Frameworks/R.framework/Resources/bin/R CMD check --install=check:diffcyt.install-out.txt --library=/Library/Frameworks/R.framework/Resources/library --no-vignettes --timings diffcyt_1.31.0.tar.gz StartedAt: 2025-11-21 19:33:50 -0500 (Fri, 21 Nov 2025) EndedAt: 2025-11-21 19:35:49 -0500 (Fri, 21 Nov 2025) EllapsedTime: 118.5 seconds RetCode: 0 Status: OK CheckDir: diffcyt.Rcheck Warnings: 0