Package: diffcyt Version: 1.31.0 Command: /Library/Frameworks/R.framework/Resources/bin/R CMD build --keep-empty-dirs --no-resave-data diffcyt StartedAt: 2025-11-23 16:10:57 -0500 (Sun, 23 Nov 2025) EndedAt: 2025-11-23 16:11:42 -0500 (Sun, 23 Nov 2025) EllapsedTime: 44.4 seconds RetCode: 0 Status: OK PackageFile: diffcyt_1.31.0.tar.gz PackageFileSize: 855.7 KiB