Package: diffcyt Version: 1.31.0 Command: rm -rf diffcyt.buildbin-libdir && mkdir diffcyt.buildbin-libdir && /Users/biocbuild/BBS/utils/build-universal.sh diffcyt_1.31.0.tar.gz /Library/Frameworks/R.framework/Resources/bin/R diffcyt.buildbin-libdir StartedAt: 2025-11-23 23:33:24 -0500 (Sun, 23 Nov 2025) EndedAt: 2025-11-23 23:33:41 -0500 (Sun, 23 Nov 2025) EllapsedTime: 16.4 seconds RetCode: 0 Status: OK PackageFile: diffcyt_1.31.0.tgz PackageFileSize: 866.1 KiB