Package: diffcoexp Version: 1.31.0 Command: /home/biocbuild/bbs-3.23-bioc/R/bin/R CMD INSTALL diffcoexp StartedAt: 2025-11-14 15:45:19 -0500 (Fri, 14 Nov 2025) EndedAt: 2025-11-14 15:45:51 -0500 (Fri, 14 Nov 2025) EllapsedTime: 31.8 seconds RetCode: 0 Status: OK