Package: diffcoexp Version: 1.31.0 Command: /home/biocbuild/bbs-3.23-bioc/R/bin/R CMD check --install=check:diffcoexp.install-out.txt --library=/home/biocbuild/bbs-3.23-bioc/R/site-library --timings diffcoexp_1.31.0.tar.gz StartedAt: 2025-11-13 22:58:16 -0500 (Thu, 13 Nov 2025) EndedAt: 2025-11-13 23:02:25 -0500 (Thu, 13 Nov 2025) EllapsedTime: 249.3 seconds RetCode: 0 Status: OK CheckDir: diffcoexp.Rcheck Warnings: 0