Package: diffcoexp Version: 1.31.0 Command: /Library/Frameworks/R.framework/Resources/bin/R CMD INSTALL diffcoexp StartedAt: 2025-11-13 15:27:13 -0500 (Thu, 13 Nov 2025) EndedAt: 2025-11-13 15:27:26 -0500 (Thu, 13 Nov 2025) EllapsedTime: 13.3 seconds RetCode: 0 Status: OK